BEGIN:VCALENDAR
VERSION:2.0
PRODID:-//NPC News Online - ECPv4.6.25//NONSGML v1.0//EN
CALSCALE:GREGORIAN
METHOD:PUBLISH
X-WR-CALNAME:NPC News Online
X-ORIGINAL-URL:https://old-site-2020.npcnewsonline.com
X-WR-CALDESC:Events for NPC News Online
BEGIN:VEVENT
DTSTART;VALUE=DATE:20170624
DTEND;VALUE=DATE:20170625
DTSTAMP:20260425T202208
CREATED:20161020T204220Z
LAST-MODIFIED:20161020T204220Z
UID:315857-1498262400-1498348799@old-site-2020.npcnewsonline.com
SUMMARY:Southern Idaho Showdown
DESCRIPTION:
URL:https://old-site-2020.npcnewsonline.com/schedules/southern-idaho-showdown/
LOCATION:College of Southern Idaho\, Twin Falls\, ID\, United States
GEO:42.5629668;-114.4608711
CATEGORIES:Bikini,Bodybuilding,Classic Physique,Figure,Fitness,Men's Physique,NPC,Women's Physique
END:VEVENT
END:VCALENDAR