BEGIN:VCALENDAR
VERSION:2.0
PRODID:-//NPC News Online - ECPv4.6.25//NONSGML v1.0//EN
CALSCALE:GREGORIAN
METHOD:PUBLISH
X-WR-CALNAME:NPC News Online
X-ORIGINAL-URL:https://old-site-2020.npcnewsonline.com
X-WR-CALDESC:Events for NPC News Online
BEGIN:VEVENT
DTSTART;VALUE=DATE:20210522
DTEND;VALUE=DATE:20210523
DTSTAMP:20260424T133706
CREATED:20201019T190841Z
LAST-MODIFIED:20210220T224644Z
UID:640905-1621641600-1621727999@old-site-2020.npcnewsonline.com
SUMMARY:Oklahoma Championships
DESCRIPTION:
URL:https://old-site-2020.npcnewsonline.com/schedules/oklahoma-championships-7/
LOCATION:Doubletree Hotel @ Warren Place\, Tulsa\, OK\, United States
CATEGORIES:Bikini,Bodybuilding,Classic Physique,Figure,Fitness,Men's Physique,NPC,Wellness,Women's Physique
ATTACH;FMTTYPE=image/jpeg:https://old-site-2020.npcnewsonline.com/wp-content/uploads/2020/10/IMG_6369.jpg
END:VEVENT
END:VCALENDAR