BEGIN:VCALENDAR
VERSION:2.0
PRODID:-//NPC News Online - ECPv4.6.25//NONSGML v1.0//EN
CALSCALE:GREGORIAN
METHOD:PUBLISH
X-WR-CALNAME:NPC News Online
X-ORIGINAL-URL:https://old-site-2020.npcnewsonline.com
X-WR-CALDESC:Events for NPC News Online
BEGIN:VEVENT
DTSTART;VALUE=DATE:20140315
DTEND;VALUE=DATE:20140316
DTSTAMP:20260424T075551
CREATED:20140111T165737Z
LAST-MODIFIED:20140112T165252Z
UID:105127-1394841600-1394927999@old-site-2020.npcnewsonline.com
SUMMARY:NEW ZEALAND PRO
DESCRIPTION:
URL:https://old-site-2020.npcnewsonline.com/schedules/new-zealand-pro/
LOCATION:Unnamed Venue\, Auckland\, New Zealand
GEO:-36.8484597;174.7633315
CATEGORIES:212 Showdown,IFBB
ORGANIZER;CN="Moes%20Elmoussawi":MAILTO:moesmuscle@yahoo.com
END:VEVENT
END:VCALENDAR