BEGIN:VCALENDAR
VERSION:2.0
PRODID:-//NPC News Online - ECPv4.6.25//NONSGML v1.0//EN
CALSCALE:GREGORIAN
METHOD:PUBLISH
X-WR-CALNAME:NPC News Online
X-ORIGINAL-URL:https://old-site-2020.npcnewsonline.com
X-WR-CALDESC:Events for NPC News Online
BEGIN:VEVENT
DTSTART;VALUE=DATE:20180512
DTEND;VALUE=DATE:20180513
DTSTAMP:20260424T080419
CREATED:20171209T054211Z
LAST-MODIFIED:20171209T054211Z
UID:403521-1526083200-1526169599@old-site-2020.npcnewsonline.com
SUMMARY:Mike Francois Classic
DESCRIPTION:
URL:https://old-site-2020.npcnewsonline.com/schedules/mike-francois-classic-5/
LOCATION:Westerville Central High School\, Westerville\, OH\, United States
GEO:40.1261743;-82.9290696
CATEGORIES:Bikini,Bodybuilding,Classic Physique,Figure,Men's Physique,NPC,Women's Physique
END:VEVENT
END:VCALENDAR