BEGIN:VCALENDAR
VERSION:2.0
PRODID:-//NPC News Online - ECPv4.6.25//NONSGML v1.0//EN
CALSCALE:GREGORIAN
METHOD:PUBLISH
X-WR-CALNAME:NPC News Online
X-ORIGINAL-URL:https://old-site-2020.npcnewsonline.com
X-WR-CALDESC:Events for NPC News Online
BEGIN:VEVENT
DTSTART;VALUE=DATE:20160813
DTEND;VALUE=DATE:20160814
DTSTAMP:20260421T152717
CREATED:20151217T053105Z
LAST-MODIFIED:20151217T053105Z
UID:242956-1471046400-1471132799@old-site-2020.npcnewsonline.com
SUMMARY:Jay Cutler Wyoming Classic
DESCRIPTION:
URL:https://old-site-2020.npcnewsonline.com/schedules/jay-cutler-wyoming-classic-3/
LOCATION:Cheyenne Civic Center\, Cheyenne\, WY\, United States
GEO:41.1399814;-104.8202462
CATEGORIES:Bikini,Bodybuilding,Figure,Fitness,Men's Physique,NPC,Women's Physique
END:VEVENT
END:VCALENDAR