BEGIN:VCALENDAR
VERSION:2.0
PRODID:-//NPC News Online - ECPv4.6.25//NONSGML v1.0//EN
CALSCALE:GREGORIAN
METHOD:PUBLISH
X-WR-CALNAME:NPC News Online
X-ORIGINAL-URL:https://old-site-2020.npcnewsonline.com
X-WR-CALDESC:Events for NPC News Online
BEGIN:VEVENT
DTSTART;VALUE=DATE:20180623
DTEND;VALUE=DATE:20180625
DTSTAMP:20260425T185732
CREATED:20180117T235408Z
LAST-MODIFIED:20180117T235408Z
UID:405852-1529712000-1529884799@old-site-2020.npcnewsonline.com
SUMMARY:IFBB  LONDON CITY PRO
DESCRIPTION:
URL:https://old-site-2020.npcnewsonline.com/schedules/ifbb-london-city-pro-3/
LOCATION:Stratford\, London\, England
CATEGORIES:IFBB,Men's Physique
ORGANIZER;CN="Bob%20Cicherillo":MAILTO:ifbbprorep@aol.com
END:VEVENT
END:VCALENDAR