BEGIN:VCALENDAR
VERSION:2.0
PRODID:-//NPC News Online - ECPv4.6.25//NONSGML v1.0//EN
CALSCALE:GREGORIAN
METHOD:PUBLISH
X-WR-CALNAME:NPC News Online
X-ORIGINAL-URL:https://old-site-2020.npcnewsonline.com
X-WR-CALDESC:Events for NPC News Online
BEGIN:VEVENT
DTSTART;VALUE=DATE:20180623
DTEND;VALUE=DATE:20180624
DTSTAMP:20260424T072625
CREATED:20171205T072340Z
LAST-MODIFIED:20171205T072340Z
UID:403397-1529712000-1529798399@old-site-2020.npcnewsonline.com
SUMMARY:IFBB GREATER GULF STATES PRO
DESCRIPTION:
URL:https://old-site-2020.npcnewsonline.com/schedules/ifbb-greater-gulf-states-pro/
CATEGORIES:Bikini,IFBB,Men's Physique
END:VEVENT
END:VCALENDAR