BEGIN:VCALENDAR
VERSION:2.0
PRODID:-//NPC News Online - ECPv4.6.25//NONSGML v1.0//EN
CALSCALE:GREGORIAN
METHOD:PUBLISH
X-WR-CALNAME:NPC News Online
X-ORIGINAL-URL:https://old-site-2020.npcnewsonline.com
X-WR-CALDESC:Events for NPC News Online
BEGIN:VEVENT
DTSTART;VALUE=DATE:20140705
DTEND;VALUE=DATE:20140706
DTSTAMP:20260424T080106
CREATED:20140130T034825Z
LAST-MODIFIED:20140130T034825Z
UID:106809-1404518400-1404604799@old-site-2020.npcnewsonline.com
SUMMARY:Georgia State Championships
DESCRIPTION:
URL:https://old-site-2020.npcnewsonline.com/schedules/georgia-state-championships/
LOCATION:Sidney Marcus Auditorium\, Atlanta\, GA\, United States
GEO:33.7489954;-84.3879824
CATEGORIES:Bikini,Bodybuilding,Figure,Men's Physique,Women's Physique
ORGANIZER;CN="Doc%20Neely":MAILTO:doc@docssports.com
END:VEVENT
END:VCALENDAR