BEGIN:VCALENDAR
VERSION:2.0
PRODID:-//NPC News Online - ECPv4.6.25//NONSGML v1.0//EN
CALSCALE:GREGORIAN
METHOD:PUBLISH
X-WR-CALNAME:NPC News Online
X-ORIGINAL-URL:https://old-site-2020.npcnewsonline.com
X-WR-CALDESC:Events for NPC News Online
BEGIN:VEVENT
DTSTART;VALUE=DATE:20220820
DTEND;VALUE=DATE:20220821
DTSTAMP:20260423T232121
CREATED:20211210T191544Z
LAST-MODIFIED:20211222T170852Z
UID:741408-1660953600-1661039999@old-site-2020.npcnewsonline.com
SUMMARY:Nashville Fit Show (Female Only)
DESCRIPTION:
URL:https://old-site-2020.npcnewsonline.com/schedules/nashville-fit-show-female-only-4/
LOCATION:Nashville Municipal Auditorium\, Nashville\, TN\, United States
CATEGORIES:Bikini,Figure,NPC,Wellness,Women's Bodybuilding,Women's Physique
END:VEVENT
BEGIN:VEVENT
DTSTART;VALUE=DATE:20220820
DTEND;VALUE=DATE:20220821
DTSTAMP:20260423T232121
CREATED:20211222T163818Z
LAST-MODIFIED:20211222T163818Z
UID:744171-1660953600-1661039999@old-site-2020.npcnewsonline.com
SUMMARY:Ronnie Coleman Classic
DESCRIPTION:
URL:https://old-site-2020.npcnewsonline.com/schedules/ronnie-coleman-classic-9/
LOCATION:NRG Center\, Houston\, Houston\, TX\, United States
CATEGORIES:Bikini,Bodybuilding,Classic Physique,Figure,Fitness,Men's Physique,NPC,Wellness,Women's Physique
END:VEVENT
BEGIN:VEVENT
DTSTART;VALUE=DATE:20220820
DTEND;VALUE=DATE:20220821
DTSTAMP:20260423T232121
CREATED:20211224T001928Z
LAST-MODIFIED:20211224T001928Z
UID:744526-1660953600-1661039999@old-site-2020.npcnewsonline.com
SUMMARY:Maxfit Classic
DESCRIPTION:
URL:https://old-site-2020.npcnewsonline.com/schedules/maxfit-classic-5/
LOCATION:Destin Fort Walton Beach Convention Center\, Fort Walton Beach\, FL\, United States
CATEGORIES:Bikini,Bodybuilding,Classic Physique,Figure,Fitness,Men's Physique,NPC,Women's Physique
END:VEVENT
BEGIN:VEVENT
DTSTART;VALUE=DATE:20220820
DTEND;VALUE=DATE:20220821
DTSTAMP:20260423T232122
CREATED:20211224T002040Z
LAST-MODIFIED:20211224T002040Z
UID:744529-1660953600-1661039999@old-site-2020.npcnewsonline.com
SUMMARY:Great Lakes/Ironman
DESCRIPTION:
URL:https://old-site-2020.npcnewsonline.com/schedules/great-lakes-ironman-2/
LOCATION:Flushing High School\, Flushing\, MI\, United States
GEO:40.769896;-73.730842
CATEGORIES:Bikini,Bodybuilding,Classic Physique,Figure,Fitness,Men's Physique,NPC,Wellness,Women's Physique
END:VEVENT
BEGIN:VEVENT
DTSTART;VALUE=DATE:20220820
DTEND;VALUE=DATE:20220821
DTSTAMP:20260423T232122
CREATED:20220106T180011Z
LAST-MODIFIED:20220106T180011Z
UID:745005-1660953600-1661039999@old-site-2020.npcnewsonline.com
SUMMARY:New Jersey State Championships
DESCRIPTION:
URL:https://old-site-2020.npcnewsonline.com/schedules/new-jersey-state-championships-5/
LOCATION:APA Hotel Woodbridge\, Iselin\, NJ\, United States
CATEGORIES:Bikini,Bodybuilding,Classic Physique,Figure,Fitness,Men's Physique,NPC,Wellness,Women's Physique
ORGANIZER;CN="Dwayne%20McDaniel":MAILTO:info@diamondgym.pro
END:VEVENT
BEGIN:VEVENT
DTSTART;VALUE=DATE:20220820
DTEND;VALUE=DATE:20220821
DTSTAMP:20260423T232123
CREATED:20220119T190718Z
LAST-MODIFIED:20220119T190718Z
UID:748677-1660953600-1661039999@old-site-2020.npcnewsonline.com
SUMMARY:New Jersey State Championships
DESCRIPTION:
URL:https://old-site-2020.npcnewsonline.com/schedules/new-jersey-state-championships-6/
LOCATION:APA Hotel Woodbridge\, Iselin\, NJ\, United States
CATEGORIES:Bikini,Bodybuilding,Classic Physique,Figure,Fitness,Men's Physique,NPC,Wellness,Women's Physique
ORGANIZER;CN="Dwayne%20McDaniel":MAILTO:info@diamondgym.pro
END:VEVENT
BEGIN:VEVENT
DTSTART;VALUE=DATE:20220820
DTEND;VALUE=DATE:20220821
DTSTAMP:20260423T232123
CREATED:20220119T190854Z
LAST-MODIFIED:20220119T190854Z
UID:748679-1660953600-1661039999@old-site-2020.npcnewsonline.com
SUMMARY:Total Body Championships
DESCRIPTION:
URL:https://old-site-2020.npcnewsonline.com/schedules/total-body-championships-9/
LOCATION:Tupelo Performing Arts Center\, Tupelo\, MS\, United States
GEO:34.2576066;-88.7033859
CATEGORIES:Bodybuilding,Classic Physique,Figure,Men's Physique,NPC,Wellness,Women's Physique
ORGANIZER;CN="Timmy%20%26%20Judy%20Gaillard":MAILTO:gaillardtbg@gmail.com
END:VEVENT
END:VCALENDAR