BEGIN:VCALENDAR
VERSION:2.0
PRODID:-//NPC News Online - ECPv4.6.25//NONSGML v1.0//EN
CALSCALE:GREGORIAN
METHOD:PUBLISH
X-WR-CALNAME:NPC News Online
X-ORIGINAL-URL:https://old-site-2020.npcnewsonline.com
X-WR-CALDESC:Events for NPC News Online
BEGIN:VEVENT
DTSTART;VALUE=DATE:20220805
DTEND;VALUE=DATE:20220807
DTSTAMP:20260424T011438
CREATED:20211202T194807Z
LAST-MODIFIED:20211202T201843Z
UID:739723-1659657600-1659830399@old-site-2020.npcnewsonline.com
SUMMARY:2022  IFBB Pro League TAMPA
DESCRIPTION:
URL:https://old-site-2020.npcnewsonline.com/schedules/2022-ifbb-pro-league-tampa-2/
LOCATION:Phoenix\, Arizona
CATEGORIES:Bikini,Classic Physique,Figure,Fitness,IFBB,Men's Physique,Wellness,Women's Physique
ORGANIZER;CN="Tim%20Gardner":MAILTO:tgflex.florida@gmail.com
END:VEVENT
END:VCALENDAR