BEGIN:VCALENDAR
VERSION:2.0
PRODID:-//NPC News Online - ECPv4.6.25//NONSGML v1.0//EN
CALSCALE:GREGORIAN
METHOD:PUBLISH
X-WR-CALNAME:NPC News Online
X-ORIGINAL-URL:https://old-site-2020.npcnewsonline.com
X-WR-CALDESC:Events for NPC News Online
BEGIN:VEVENT
DTSTART;VALUE=DATE:20220720
DTEND;VALUE=DATE:20220725
DTSTAMP:20260421T184308
CREATED:20211230T184904Z
LAST-MODIFIED:20211230T185251Z
UID:744817-1658275200-1658707199@old-site-2020.npcnewsonline.com
SUMMARY:Teen Collegiate & Masters National Championships
DESCRIPTION:
URL:https://old-site-2020.npcnewsonline.com/schedules/teen-collegiate-masters-national-championships-8/
CATEGORIES:Bikini,Bodybuilding,Classic Physique,Figure,Men's Physique,National Show,NPC,Wellness,Women's Physique
END:VEVENT
BEGIN:VEVENT
DTSTART;VALUE=DATE:20220722
DTEND;VALUE=DATE:20220724
DTSTAMP:20260421T184308
CREATED:20211202T175400Z
LAST-MODIFIED:20211202T175400Z
UID:739649-1658448000-1658620799@old-site-2020.npcnewsonline.com
SUMMARY:2022  IFBB Pro League  CHICAGO
DESCRIPTION:
URL:https://old-site-2020.npcnewsonline.com/schedules/2022-ifbb-pro-league-chicago/
LOCATION:Chicago\, Illinois\, Chicago\, IL\, United States
GEO:41.8781136;-87.6297982
CATEGORIES:212 Showdown,Bikini,Bodybuilding,Classic Physique,Figure,Fitness,IFBB,Men's Physique,Wellness,Women's Bodybuilding,Women's Physique
ORGANIZER;CN="Tim%20Gardner":MAILTO:tgflex.florida@gmail.com
END:VEVENT
END:VCALENDAR