BEGIN:VCALENDAR
VERSION:2.0
PRODID:-//NPC News Online - ECPv4.6.25//NONSGML v1.0//EN
CALSCALE:GREGORIAN
METHOD:PUBLISH
X-WR-CALNAME:NPC News Online
X-ORIGINAL-URL:https://old-site-2020.npcnewsonline.com
X-WR-CALDESC:Events for NPC News Online
BEGIN:VEVENT
DTSTART;VALUE=DATE:20220513
DTEND;VALUE=DATE:20220515
DTSTAMP:20260425T192339
CREATED:20211230T184420Z
LAST-MODIFIED:20211230T185232Z
UID:744813-1652400000-1652572799@old-site-2020.npcnewsonline.com
SUMMARY:Junior USA Championships
DESCRIPTION:
URL:https://old-site-2020.npcnewsonline.com/schedules/junior-usa-championships-9/
CATEGORIES:Bikini,Bodybuilding,Classic Physique,Figure,Fitness,Men's Physique,National Show,NPC,Wellness,Women's Physique
ORGANIZER;CN="Tres%20Bennet":MAILTO:tresb@comcast.net
END:VEVENT
BEGIN:VEVENT
DTSTART;VALUE=DATE:20220514
DTEND;VALUE=DATE:20220515
DTSTAMP:20260425T192339
CREATED:20211210T181743Z
LAST-MODIFIED:20211210T181743Z
UID:741254-1652486400-1652572799@old-site-2020.npcnewsonline.com
SUMMARY:Illnois State Championships
DESCRIPTION:
URL:https://old-site-2020.npcnewsonline.com/schedules/illnois-state-championships/
LOCATION:Copernicus Center
CATEGORIES:Bikini,Bodybuilding,Classic Physique,Figure,Fitness,Men's Physique,NPC,Wellness,Women's Physique
END:VEVENT
END:VCALENDAR