BEGIN:VCALENDAR
VERSION:2.0
PRODID:-//NPC News Online - ECPv4.6.25//NONSGML v1.0//EN
CALSCALE:GREGORIAN
METHOD:PUBLISH
X-WR-CALNAME:NPC News Online
X-ORIGINAL-URL:https://old-site-2020.npcnewsonline.com
X-WR-CALDESC:Events for NPC News Online
BEGIN:VEVENT
DTSTART;VALUE=DATE:20221119
DTEND;VALUE=DATE:20221121
DTSTAMP:20260425T192401
CREATED:20211202T200346Z
LAST-MODIFIED:20211202T200346Z
UID:739739-1668816000-1668988799@old-site-2020.npcnewsonline.com
SUMMARY:2022  IFBB Pro League ATLANTIC COAST
DESCRIPTION:
URL:https://old-site-2020.npcnewsonline.com/schedules/2022-ifbb-pro-league-atlantic-coast/
LOCATION:Fort Lauderdale\, Florida
CATEGORIES:Bikini,Figure,IFBB,Men's Physique,Women's Physique
ORGANIZER;CN="Tim%20Gardner":MAILTO:tgflex.florida@gmail.com
END:VEVENT
BEGIN:VEVENT
DTSTART;VALUE=DATE:20221119
DTEND;VALUE=DATE:20221120
DTSTAMP:20260425T192402
CREATED:20211222T175519Z
LAST-MODIFIED:20211222T175519Z
UID:744238-1668816000-1668902399@old-site-2020.npcnewsonline.com
SUMMARY:Atlantic Coast Championships
DESCRIPTION:
URL:https://old-site-2020.npcnewsonline.com/schedules/atlantic-coast-championships-6/
LOCATION:Greater Fort Lauderdale/Broward County Convention Center\, Ft. Lauderdale\, FL\, United States
GEO:26.1224386;-80.1373174
CATEGORIES:Bikini,Bodybuilding,Classic Physique,Figure,Men's Physique,NPC,Wellness,Women's Physique
ORGANIZER;CN="Tim%20Gardner":MAILTO:tgflex.florida@gmail.com
END:VEVENT
BEGIN:VEVENT
DTSTART;VALUE=DATE:20221119
DTEND;VALUE=DATE:20221120
DTSTAMP:20260425T192402
CREATED:20220106T180358Z
LAST-MODIFIED:20220106T180358Z
UID:745010-1668816000-1668902399@old-site-2020.npcnewsonline.com
SUMMARY:Western Michigan Championships
DESCRIPTION:
URL:https://old-site-2020.npcnewsonline.com/schedules/western-michigan-championships-8/
LOCATION:East Grand Rapids High School\, East Grand Rapids\, MI\, United States
CATEGORIES:Bikini,Bodybuilding,Classic Physique,Figure,Fitness,Men's Physique,NPC,Wellness,Women's Physique
END:VEVENT
BEGIN:VEVENT
DTSTART;VALUE=DATE:20221119
DTEND;VALUE=DATE:20221121
DTSTAMP:20260425T192403
CREATED:20220117T072021Z
LAST-MODIFIED:20220117T072021Z
UID:747905-1668816000-1668988799@old-site-2020.npcnewsonline.com
SUMMARY:NPC Masters USA Championships
DESCRIPTION:
URL:https://old-site-2020.npcnewsonline.com/schedules/npc-masters-usa-championships-2/
CATEGORIES:Bikini,Bodybuilding,Classic Physique,Figure,Men's Physique,National Show,NPC,Wellness,Women's Physique
ORGANIZER;CN="Tamer%20El%20Guindy":MAILTO:tamer@musclecontest.com 
END:VEVENT
BEGIN:VEVENT
DTSTART;VALUE=DATE:20221119
DTEND;VALUE=DATE:20221120
DTSTAMP:20260425T192403
CREATED:20220119T192011Z
LAST-MODIFIED:20220119T192011Z
UID:748700-1668816000-1668902399@old-site-2020.npcnewsonline.com
SUMMARY:Western Michigan Championships
DESCRIPTION:
URL:https://old-site-2020.npcnewsonline.com/schedules/western-michigan-championships-9/
LOCATION:East Grand Rapids High School\, East Grand Rapids\, MI\, United States
CATEGORIES:Bikini,Bodybuilding,Classic Physique,Figure,Fitness,Men's Physique,NPC,Wellness,Women's Physique
END:VEVENT
END:VCALENDAR