BEGIN:VCALENDAR
VERSION:2.0
PRODID:-//NPC News Online - ECPv4.6.25//NONSGML v1.0//EN
CALSCALE:GREGORIAN
METHOD:PUBLISH
X-WR-CALNAME:NPC News Online
X-ORIGINAL-URL:https://old-site-2020.npcnewsonline.com
X-WR-CALDESC:Events for NPC News Online
BEGIN:VEVENT
DTSTART;VALUE=DATE:20211022
DTEND;VALUE=DATE:20211024
DTSTAMP:20260424T205233
CREATED:20201215T013541Z
LAST-MODIFIED:20201215T013541Z
UID:657743-1634860800-1635033599@old-site-2020.npcnewsonline.com
SUMMARY:IFBB PRO LEAGUE  LEGION SPORTS FEST
DESCRIPTION:
URL:https://old-site-2020.npcnewsonline.com/schedules/ifbb-pro-league-legion-sports-fest/
CATEGORIES:Bikini,Bodybuilding,Classic Physique,Figure,Fitness,IFBB,Men's Physique,Wellness,Women's Physique
ORGANIZER;CN="Chris%20Minnes":MAILTO:events@centerpodium.com
END:VEVENT
END:VCALENDAR