BEGIN:VCALENDAR
VERSION:2.0
PRODID:-//NPC News Online - ECPv4.6.25//NONSGML v1.0//EN
CALSCALE:GREGORIAN
METHOD:PUBLISH
X-WR-CALNAME:NPC News Online
X-ORIGINAL-URL:https://old-site-2020.npcnewsonline.com
X-WR-CALDESC:Events for NPC News Online
BEGIN:VEVENT
DTSTART;VALUE=DATE:20210721
DTEND;VALUE=DATE:20210725
DTSTAMP:20260424T072202
CREATED:20201215T012947Z
LAST-MODIFIED:20201215T012947Z
UID:657738-1626825600-1627171199@old-site-2020.npcnewsonline.com
SUMMARY:IFBB Pro League PITTSBURGH MASTERS
DESCRIPTION:
URL:https://old-site-2020.npcnewsonline.com/schedules/ifbb-pro-league-pittsburgh-masters/
CATEGORIES:Bikini,Bodybuilding,Classic Physique,Figure,IFBB
END:VEVENT
BEGIN:VEVENT
DTSTART;VALUE=DATE:20210721
DTEND;VALUE=DATE:20210725
DTSTAMP:20260424T072202
CREATED:20210104T192858Z
LAST-MODIFIED:20210104T192858Z
UID:664678-1626825600-1627171199@old-site-2020.npcnewsonline.com
SUMMARY:Teen Collegiate & Masters National Championships
DESCRIPTION:
URL:https://old-site-2020.npcnewsonline.com/schedules/teen-collegiate-masters-national-championships-7/
CATEGORIES:Bikini,Bodybuilding,Classic Physique,Figure,Men's Physique,National Show,NPC,Wellness,Women's Physique
END:VEVENT
BEGIN:VEVENT
DTSTART;VALUE=DATE:20210721
DTEND;VALUE=DATE:20210725
DTSTAMP:20260424T072202
CREATED:20210625T214028Z
LAST-MODIFIED:20210625T214028Z
UID:693736-1626825600-1627171199@old-site-2020.npcnewsonline.com
SUMMARY:2021 IFBB PRO LEAGUE PITTSBURGH MASTERS
DESCRIPTION:
URL:https://old-site-2020.npcnewsonline.com/schedules/2021-ifbb-pro-league-pittsburgh-masters/
CATEGORIES:Bikini,Bodybuilding,Classic Physique,Figure,IFBB,Men's Physique,Women's Bodybuilding,Women's Physique
END:VEVENT
BEGIN:VEVENT
DTSTART;VALUE=DATE:20210723
DTEND;VALUE=DATE:20210725
DTSTAMP:20260424T072203
CREATED:20201215T012236Z
LAST-MODIFIED:20210308T194032Z
UID:657731-1626998400-1627171199@old-site-2020.npcnewsonline.com
SUMMARY:IFBB Pro League WOS Chicago
DESCRIPTION:
URL:https://old-site-2020.npcnewsonline.com/schedules/ifbb-pro-league-wos-chicago/
CATEGORIES:212 Showdown,Bikini,Bodybuilding,Classic Physique,Figure,Fitness,IFBB,Men's Physique,Wellness,Women's Bodybuilding,Women's Physique
ORGANIZER;CN="Tim%20Gardner":MAILTO:tgflex.florida@gmail.com
END:VEVENT
END:VCALENDAR