BEGIN:VCALENDAR
VERSION:2.0
PRODID:-//NPC News Online - ECPv4.6.25//NONSGML v1.0//EN
CALSCALE:GREGORIAN
METHOD:PUBLISH
X-WR-CALNAME:NPC News Online
X-ORIGINAL-URL:https://old-site-2020.npcnewsonline.com
X-WR-CALDESC:Events for NPC News Online
BEGIN:VEVENT
DTSTART;VALUE=DATE:20210513
DTEND;VALUE=DATE:20210516
DTSTAMP:20260425T234954
CREATED:20210104T191219Z
LAST-MODIFIED:20210104T191652Z
UID:664674-1620864000-1621123199@old-site-2020.npcnewsonline.com
SUMMARY:Junior USA Championships
DESCRIPTION:
URL:https://old-site-2020.npcnewsonline.com/schedules/junior-usa-championships-8/
CATEGORIES:Bikini,Bodybuilding,Classic Physique,Figure,Fitness,Men's Physique,National Show,NPC,Wellness,Women's Physique
ORGANIZER;CN="Tres%20Bennet":MAILTO:tresb@comcast.net
END:VEVENT
END:VCALENDAR