BEGIN:VCALENDAR
VERSION:2.0
PRODID:-//NPC News Online - ECPv4.6.25//NONSGML v1.0//EN
CALSCALE:GREGORIAN
METHOD:PUBLISH
X-WR-CALNAME:NPC News Online
X-ORIGINAL-URL:https://old-site-2020.npcnewsonline.com
X-WR-CALDESC:Events for NPC News Online
BEGIN:VEVENT
DTSTART;VALUE=DATE:20201012
DTEND;VALUE=DATE:20201016
DTSTAMP:20260425T211854
CREATED:20191221T170322Z
LAST-MODIFIED:20200501T172910Z
UID:581894-1602460800-1602806399@old-site-2020.npcnewsonline.com
SUMMARY:Teen Collegiate & Masters National Championships
DESCRIPTION:
URL:https://old-site-2020.npcnewsonline.com/schedules/teen-collegiate-masters-national-championships-6/
CATEGORIES:Bikini,Bodybuilding,Classic Physique,Figure,Fitness,Men's Physique,National Show,NPC,Women's Physique
END:VEVENT
END:VCALENDAR