BEGIN:VCALENDAR
VERSION:2.0
PRODID:-//NPC News Online - ECPv4.6.25//NONSGML v1.0//EN
CALSCALE:GREGORIAN
METHOD:PUBLISH
X-WR-CALNAME:NPC News Online
X-ORIGINAL-URL:https://old-site-2020.npcnewsonline.com
X-WR-CALDESC:Events for NPC News Online
BEGIN:VEVENT
DTSTART;VALUE=DATE:20200308
DTEND;VALUE=DATE:20200309
DTSTAMP:20260424T073629
CREATED:20191120T224144Z
LAST-MODIFIED:20191120T224144Z
UID:576613-1583625600-1583711999@old-site-2020.npcnewsonline.com
SUMMARY:Denver Open
DESCRIPTION:
URL:https://old-site-2020.npcnewsonline.com/schedules/denver-open-3/
LOCATION:Expo Event Center\, Denver\, CO\, United States
GEO:39.6766174;-104.9618965
CATEGORIES:Bikini,Bodybuilding,Classic Physique,Figure,Men's Physique,NPC,Women's Physique
END:VEVENT
END:VCALENDAR