BEGIN:VCALENDAR
VERSION:2.0
PRODID:-//NPC News Online - ECPv4.6.25//NONSGML v1.0//EN
CALSCALE:GREGORIAN
METHOD:PUBLISH
X-WR-CALNAME:NPC News Online
X-ORIGINAL-URL:https://old-site-2020.npcnewsonline.com
X-WR-CALDESC:Events for NPC News Online
BEGIN:VEVENT
DTSTART;VALUE=DATE:20160820
DTEND;VALUE=DATE:20160821
DTSTAMP:20260424T074134
CREATED:20151204T001139Z
LAST-MODIFIED:20151204T160810Z
UID:239475-1471651200-1471737599@old-site-2020.npcnewsonline.com
SUMMARY: ARNOLD ASIA PRO
DESCRIPTION:
URL:https://old-site-2020.npcnewsonline.com/schedules/arnold-asia-mens-open/
CATEGORIES:Bodybuilding,Fitness,IFBB
END:VEVENT
END:VCALENDAR